BEGIN:VCALENDAR
VERSION:2.0
PRODID:-//Youth Sports Alliance - ECPv6.15.18//NONSGML v1.0//EN
CALSCALE:GREGORIAN
METHOD:PUBLISH
X-WR-CALNAME:Youth Sports Alliance
X-ORIGINAL-URL:https://ysausa.org
X-WR-CALDESC:Events for Youth Sports Alliance
REFRESH-INTERVAL;VALUE=DURATION:PT1H
X-Robots-Tag:noindex
X-PUBLISHED-TTL:PT1H
BEGIN:VTIMEZONE
TZID:America/Denver
BEGIN:DAYLIGHT
TZOFFSETFROM:-0700
TZOFFSETTO:-0600
TZNAME:MDT
DTSTART:20200308T090000
END:DAYLIGHT
BEGIN:STANDARD
TZOFFSETFROM:-0600
TZOFFSETTO:-0700
TZNAME:MST
DTSTART:20201101T080000
END:STANDARD
BEGIN:DAYLIGHT
TZOFFSETFROM:-0700
TZOFFSETTO:-0600
TZNAME:MDT
DTSTART:20210314T090000
END:DAYLIGHT
BEGIN:STANDARD
TZOFFSETFROM:-0600
TZOFFSETTO:-0700
TZNAME:MST
DTSTART:20211107T080000
END:STANDARD
BEGIN:DAYLIGHT
TZOFFSETFROM:-0700
TZOFFSETTO:-0600
TZNAME:MDT
DTSTART:20220313T090000
END:DAYLIGHT
BEGIN:STANDARD
TZOFFSETFROM:-0600
TZOFFSETTO:-0700
TZNAME:MST
DTSTART:20221106T080000
END:STANDARD
BEGIN:DAYLIGHT
TZOFFSETFROM:-0700
TZOFFSETTO:-0600
TZNAME:MDT
DTSTART:20230312T090000
END:DAYLIGHT
BEGIN:STANDARD
TZOFFSETFROM:-0600
TZOFFSETTO:-0700
TZNAME:MST
DTSTART:20231105T080000
END:STANDARD
BEGIN:DAYLIGHT
TZOFFSETFROM:-0700
TZOFFSETTO:-0600
TZNAME:MDT
DTSTART:20240310T090000
END:DAYLIGHT
BEGIN:STANDARD
TZOFFSETFROM:-0600
TZOFFSETTO:-0700
TZNAME:MST
DTSTART:20241103T080000
END:STANDARD
BEGIN:DAYLIGHT
TZOFFSETFROM:-0700
TZOFFSETTO:-0600
TZNAME:MDT
DTSTART:20250309T090000
END:DAYLIGHT
BEGIN:STANDARD
TZOFFSETFROM:-0600
TZOFFSETTO:-0700
TZNAME:MST
DTSTART:20251102T080000
END:STANDARD
END:VTIMEZONE
BEGIN:VEVENT
DTSTART;TZID=America/Denver:20241108T113000
DTEND;TZID=America/Denver:20241108T130000
DTSTAMP:20260421T145950
CREATED:20240801T193037Z
LAST-MODIFIED:20240807T023945Z
UID:10001210-1731065400-1731070800@ysausa.org
SUMMARY:Holiday Ornament Stone Carving
DESCRIPTION:Fridays\, November 8th\, 15th \nJoin Let’s Carve Stone after school carvings for a two course holiday carvings sessions. Carve gifts \, Christmas ornaments\, thanksgiving icons\, leaves with loved ones initials\, snowmen\, Christmas trees\, 3d initials\, the list goes on and on. \nScholarships:  \n\nRegular scholarships are available for students with families earning less than $50\,000 annually. Just select a Scholarship ticket below to complete the registration process for your child.\nPartial Scholarships are now also available for families earning between $50\,000 and $120\,000 annually. To apply for a Partial Scholarship\, please complete the application linked here to help us understand your financial challenges.
URL:https://ysausa.org/event/stone-carving-2024/
LOCATION:Treasure Mountain Junior High\, 2530 Kearns Blvd\, Park City\, UT\, 84060\, United States
CATEGORIES:Activ8,Park City Day School,Silver Summit Academy,Telos Classical Academy,Treasure Mountain
ORGANIZER;CN="Park City Program Manager":MAILTO:heather@ysausa.org
GEO:40.669305;-111.4903766
X-APPLE-STRUCTURED-LOCATION;VALUE=URI;X-ADDRESS=Treasure Mountain Junior High 2530 Kearns Blvd Park City UT 84060 United States;X-APPLE-RADIUS=500;X-TITLE=2530 Kearns Blvd:geo:-111.4903766,40.669305
END:VEVENT
BEGIN:VEVENT
DTSTART;TZID=America/Denver:20240426T113000
DTEND;TZID=America/Denver:20240426T131500
DTSTAMP:20260421T145950
CREATED:20230814T152116Z
LAST-MODIFIED:20240213T154732Z
UID:10000938-1714131000-1714137300@ysausa.org
SUMMARY:ACTiV8 Beginner Mountain Biking Fridays with Basin Recreation
DESCRIPTION:Mountain Biking for Treasure/Silver Summit and Homeschoolers \nDates: April 26\, May 3\, 10\, 17 \nWe have teamed up with Basin Recreation to offer mountain biking programs for Beginner to Intermediate Riders. Every  rider will learn safety\, trail etiquette\, ascending\, descending\, obstacles and some tips on how to get to the top. This program leaves directly from the Ecker Hill school grounds and will happen rain or shine. \nIf you do not own a bike and would like to participate in this program please contact Heather Sims \nRequired equipment \n\nBike\nHelmet (compulsory your child will not be allowed to ride without one)\nShoes and Socks (no open-toe sandals)\nAthletic clothing\nProtective eye wear (sunglasses are best)\nCycling glove\n\nNew Partial Scholarship Available!\nWe want to provide the opportunity for as many kids as possible to participate in our programs. If you earn less than $120\,000 annually and the registration fee is a burden for your family\, you may qualify for a partial scholarship. Please complete the Partial Scholarship Application linked here here to help us understand your financial challenges. The information you choose to share with us is confidential and will be used only for purposes of determining your eligibility for a partial scholarship. You may be asked to provide documentation (i.e.\, paystubs\, tax forms\, or W-2s) to confirm your income and/or other financial information.
URL:https://ysausa.org/event/activ8-beginner-mountain-biking-fridays-with-basin-recreation-2/
LOCATION:Treasure Mountain Junior High\, 2530 Kearns Blvd\, Park City\, UT\, 84060\, United States
CATEGORIES:Activ8,Treasure Mountain
ATTACH;FMTTYPE=image/jpeg:https://ysausa.org/wp-content/uploads/2019/08/mtb-from-don-brown.jpeg
ORGANIZER;CN="Park City Program Manager":MAILTO:heather@ysausa.org
GEO:40.669305;-111.4903766
X-APPLE-STRUCTURED-LOCATION;VALUE=URI;X-ADDRESS=Treasure Mountain Junior High 2530 Kearns Blvd Park City UT 84060 United States;X-APPLE-RADIUS=500;X-TITLE=2530 Kearns Blvd:geo:-111.4903766,40.669305
END:VEVENT
BEGIN:VEVENT
DTSTART;TZID=America/Denver:20231207T143000
DTEND;TZID=America/Denver:20231207T160000
DTSTAMP:20260421T145950
CREATED:20231017T172145Z
LAST-MODIFIED:20231204T170717Z
UID:10001080-1701959400-1701964800@ysausa.org
SUMMARY:Stone Carving Holiday Ornaments
DESCRIPTION:Thursdays 7th & 14th \nJoin Let’s Carve Stone after school carvings for a three course holiday carvings sessions\, nov __ and twice in Dec. Carve gifts \, Christmas ornaments\, thanksgiving icons\, leaves with loved ones initials\, snowmen\, Christmas trees\, 3d initials\, the list goes on and on. \nScholarships:  \n\nRegular scholarships are available for students with families earning less than $50\,000 annually. Just select a Scholarship ticket below to complete the registration process for your child.\nPartial Scholarships are now also available for families earning between $50\,000 and $120\,000 annually. To apply for a Partial Scholarship\, please complete the application linked here to help us understand your financial challenges.
URL:https://ysausa.org/event/stone-carving-copy/2023-12-07/
LOCATION:Treasure Mountain Junior High\, 2530 Kearns Blvd\, Park City\, UT\, 84060\, United States
CATEGORIES:Activ8,Ecker Hill,Park City Day School,Silver Summit Academy,Telos Classical Academy,Treasure Mountain
ATTACH;FMTTYPE=image/jpeg:https://ysausa.org/wp-content/uploads/2023/10/311289340_3340872982898360_6109270235101472481_n-scaled.jpg
ORGANIZER;CN="Park City Program Manager":MAILTO:heather@ysausa.org
GEO:40.669305;-111.4903766
X-APPLE-STRUCTURED-LOCATION;VALUE=URI;X-ADDRESS=Treasure Mountain Junior High 2530 Kearns Blvd Park City UT 84060 United States;X-APPLE-RADIUS=500;X-TITLE=2530 Kearns Blvd:geo:-111.4903766,40.669305
END:VEVENT
BEGIN:VEVENT
DTSTART;TZID=America/Denver:20230505T113000
DTEND;TZID=America/Denver:20230505T130000
DTSTAMP:20260421T145950
CREATED:20230320T200158Z
LAST-MODIFIED:20230320T200158Z
UID:10000918-1683286200-1683291600@ysausa.org
SUMMARY:Bike Mechanics 101
DESCRIPTION:Join us for a single session tutorial to learn what to do in an emergency to get you and your bike back safely. \nSubjects covered will included: \nChanging tires\nAdjusting gears\nWhat to have in a seat bag\nTrail Etiquette\nWhat to do an emergency \nPlease bring your bike and any tools/ supplies you may have.\nIf you have tyre levers\, PLEASE BRING THEM!\n\n*This class will be outside and may need to be rescheduled or cancelled due to wet weather.
URL:https://ysausa.org/event/bike-mechanics-101-2/
LOCATION:Treasure Mountain Junior High\, 2530 Kearns Blvd\, Park City\, UT\, 84060\, United States
CATEGORIES:Activ8,Treasure Mountain
ATTACH;FMTTYPE=image/jpeg:https://ysausa.org/wp-content/uploads/2020/01/emergency-bike-repair-scaled.jpg
ORGANIZER;CN="Park City Program Manager":MAILTO:heather@ysausa.org
GEO:40.669305;-111.4903766
X-APPLE-STRUCTURED-LOCATION;VALUE=URI;X-ADDRESS=Treasure Mountain Junior High 2530 Kearns Blvd Park City UT 84060 United States;X-APPLE-RADIUS=500;X-TITLE=2530 Kearns Blvd:geo:-111.4903766,40.669305
END:VEVENT
BEGIN:VEVENT
DTSTART;TZID=America/Denver:20221104T113000
DTEND;TZID=America/Denver:20221104T133000
DTSTAMP:20260421T145950
CREATED:20230104T201407Z
LAST-MODIFIED:20230104T201409Z
UID:10000798-1667561400-1667568600@ysausa.org
SUMMARY:***DO NOT DUPLICATE*** SOLD OUT!!! PSIA Ski/Snowboard Junior Instructor Certification for 14-16 year olds
DESCRIPTION:Ever wonder what it would be like to teach skiing or snowboarding? Here’s a great way to find out! Participate in the Junior Instructor Program\, sponsored by YSA and the Professional Ski Instructors of America – American Association of Snowboard Instructors (PSIA-AASI).  \nLearn what it’s like to work as an instructor and earn a nationally-recognized certificate that can open the door to teaching at a local resort.  \nDates: Fridays Classroom Nov 4\, 11\, (at school 11:30-1:30) On Snow at Woodward  December 3rd & December 10  for two 6 hours training sessions. \nTaking Part In This Program:  \n\nMakes you a better skier or snowboarder \nConnects you with others who share your snowsports passion \nHelps you develop important career and life skills\, such as: Communication\, Dedication\, Discipline\, Independence\, Instruction\, Leadership\, Group management\, Professionalism\, Public speaking\nGives you a solid foundation of skills to help you work in the snowsports industry during and after high school. \n\nProgram Requirements \n\nParticipate in 4 hours of classroom learning including three online learning units. \nComplete a 12-hour training course on snow at a local resort.) Lift tickets will be provided for on snow sessions.\nShadow 6 hours of lessons at the resort’s ski and ride school.\nDemonstrate a minimum sliding ability in 2 areas:\n\nMust have the ability to maneuver safely in a learning area and around all surface lifts or up/down hills and trails.\nMust show the ability to safely ski or ride in a group on blue terrain.\n\n\nComplete the course portfolio and have it signed by a snowsports supervisor.\nWrite and submit a letter of intent that describes why you want to become a snowsports instructor. Students will have the option to apply for a seasonal position as a Junior Instructor at the host resort after completing this course.\n\nOption for employment with Woodward (subject to interview). \nOn snow passes and instruction sponsored by Woodward Park City and PSIA \n 
URL:https://ysausa.org/event/psia-ski-snowboard-junior-instructor-certification-for-14-16-year-olds-2/
LOCATION:Treasure Mountain Junior High\, 2530 Kearns Blvd\, Park City\, UT\, 84060\, United States
CATEGORIES:Activ8,Events,Treasure Mountain
ATTACH;FMTTYPE=image/png:https://ysausa.org/wp-content/uploads/2022/08/PSIA-Ski.png
ORGANIZER;CN="Park City Program Manager":MAILTO:heather@ysausa.org
GEO:40.669305;-111.4903766
X-APPLE-STRUCTURED-LOCATION;VALUE=URI;X-ADDRESS=Treasure Mountain Junior High 2530 Kearns Blvd Park City UT 84060 United States;X-APPLE-RADIUS=500;X-TITLE=2530 Kearns Blvd:geo:-111.4903766,40.669305
END:VEVENT
BEGIN:VEVENT
DTSTART;TZID=America/Denver:20220909T113000
DTEND;TZID=America/Denver:20220909T131500
DTSTAMP:20260421T145950
CREATED:20220719T234556Z
LAST-MODIFIED:20220903T201241Z
UID:10000769-1662723000-1662729300@ysausa.org
SUMMARY:ACTiV8 Beginner Mountain Biking Fridays
DESCRIPTION:Mountain Biking for Treasure Mountain and Homeschoolers \nDates: September 9th\, 16th\, 23rd and 30th \nTimes: 11:30am – 1:15pm \nLocation: Treasure Mountain Junior High School \nWe have teamed up with Basin Recreation to offer a 4-week mountain biking program for beginner to intermediate riders. Every rider will learn safety\, trail etiquette\, ascending\, descending\, obstacles and some tips on how to get to the top. This program leaves directly from the Treasure Mountain school grounds and will happen rain or shine. \nIf you do not own a bike and would like to participate in this program please contact Lucy Best \nRequired equipment \n\nBike\nHelmet (mandatory your child will not be allowed to ride without one)\nShoes and Socks (no open-toe sandals)\nAthletic clothing\nProtective eye wear (sunglasses are best)\nCycling glove – recommended\n\nNew Partial Scholarship Available! \nWe want to provide the opportunity for as many kids as possible to participate in our programs. If you earn less than $50\,000 annually\, please select a Scholarship ticket to complete your registration. If you earn more than $50\,000 annually but less than $100\,000 annually and the registration fee is a burden for your family\, you may qualify for a partial scholarship. Please complete the Partial Scholarship Application linked here to help us understand your financial challenges. The information you choose to share with us is confidential and will be used only for purposes of determining your eligibility for a partial scholarship. You may be asked to provide documentation (i.e.\, paystubs\, tax forms\, or W-2s) to confirm your income and/or other financial information. \nFor questions\, email lucy@ysausa.org \nWeek 1\nFridaySepember 9th11:30-1:15pm\nBeginner Biking \nWeek 2\nFridaySeptember 16th11:30-1:15pm\nBiking skills \nWeek 3\nFridaySeptember 23rd11:30-1:15pm\nBeginner biking \nWeek 4\nFridaySeptember 30th11:30-1:15pm\nBiking skills
URL:https://ysausa.org/event/activ8-beginner-mountain-biking-fridays-2-copy-2/
LOCATION:Treasure Mountain Junior High\, 2530 Kearns Blvd\, Park City\, UT\, 84060\, United States
CATEGORIES:Activ8,homeschool,Treasure Mountain
ATTACH;FMTTYPE=image/jpeg:https://ysausa.org/wp-content/uploads/2019/08/mtb-treasure.jpeg
ORGANIZER;CN="Park City Program Manager":MAILTO:heather@ysausa.org
GEO:40.669305;-111.4903766
X-APPLE-STRUCTURED-LOCATION;VALUE=URI;X-ADDRESS=Treasure Mountain Junior High 2530 Kearns Blvd Park City UT 84060 United States;X-APPLE-RADIUS=500;X-TITLE=2530 Kearns Blvd:geo:-111.4903766,40.669305
END:VEVENT
BEGIN:VEVENT
DTSTART;TZID=America/Denver:20211119T113000
DTEND;TZID=America/Denver:20211119T133000
DTSTAMP:20260421T145950
CREATED:20210812T183214Z
LAST-MODIFIED:20211117T173616Z
UID:10000711-1637321400-1637328600@ysausa.org
SUMMARY:ACTiV8 Portrait Photography
DESCRIPTION:This 4 week program is taught by John Nealy\, a headshot\, fashion\, and lifestyle photographer in Park City. He has worked with numerous working actors\, fashion lines\, and marketing companies producing images in his own style. His techniques are meant to replicate the look of dramatic natural lighting from high key to moody low key. He will be teaching you how to capture quality images in your own style. No matter the gear\, it is all about how to apply the fundamentals of photography and editing to create engaging images on a commercial level. These fundamentals are what he applies for himself no matter the situation a client demands\, he will teach you how to apply to your creative vision. \nCameras will be provided for this program but if you have your own SLR camera you are welcome to use it. \nDates: Nov. 19\, Dec. 3\, 10\, 17 \nNEW! Partial Scholarship Availability.  We want to provide the opportunity for as many kids as possible to participate in our programs. If you earn less than $50\,000 annually\, please select a Scholarship ticket to complete your registration. If you earn more than $50\,000 annually but less than $100\,000 annually and the registration fee is a burden for your family\, you may qualify for a partial scholarship. Please complete the Partial Scholarship Application linked here here to help us understand your financial challenges. The information you choose to share with us is confidential and will be used only for purposes of determining your eligibility for a partial scholarship. You may be asked to provide documentation (i.e.\, paystubs\, tax forms\, or W-2s) to confirm your income and/or other financial information.
URL:https://ysausa.org/event/activ8-portrait-photography/
LOCATION:Treasure Mountain Junior High\, 2530 Kearns Blvd\, Park City\, UT\, 84060\, United States
CATEGORIES:Activ8,homeschool,Treasure Mountain
ATTACH;FMTTYPE=image/png:https://ysausa.org/wp-content/uploads/2021/08/Collage.png
ORGANIZER;CN="Youth Sports Alliance Wasatch Programs":MAILTO:amanda@ysausa.org
GEO:40.669305;-111.4903766
X-APPLE-STRUCTURED-LOCATION;VALUE=URI;X-ADDRESS=Treasure Mountain Junior High 2530 Kearns Blvd Park City UT 84060 United States;X-APPLE-RADIUS=500;X-TITLE=2530 Kearns Blvd:geo:-111.4903766,40.669305
END:VEVENT
END:VCALENDAR